BEGIN:VCALENDAR
VERSION:2.0
PRODID:icalendar-ruby
CALSCALE:GREGORIAN
METHOD:PUBLISH
BEGIN:VEVENT
DTSTAMP:20260425T013700Z
UID:5-1489791@newcovenant.tithelysetup8.com
DTSTART:20260830T143000Z
DTEND:20260830T163000Z
CLASS:PUBLIC
CREATED:20260424T213624
DESCRIPTION:Sunday Assembly
LAST-MODIFIED:20260424T213624
LOCATION:820 Greenbrier Circle\, Suite 11\, Chesapeake VA 23320
SUMMARY:Sunday Assembly
URL;VALUE=URI:https://newcovenant.tithelysetup8.com/events/sunday-assembly/
 2026-08-30
END:VEVENT
END:VCALENDAR
