BEGIN:VCALENDAR
VERSION:2.0
PRODID:icalendar-ruby
CALSCALE:GREGORIAN
METHOD:PUBLISH
BEGIN:VEVENT
DTSTAMP:20260424T134704Z
UID:9-1485597@newcovenant.tithelysetup8.com
DTSTART:20260908T120000Z
DTEND:20260908T130000Z
CLASS:PUBLIC
CREATED:20260424T073117
DESCRIPTION:
LAST-MODIFIED:20260424T073117
LOCATION:820 Greenbrier Circle\, Suite 11\, Chesapeake VA 23320
SUMMARY:Sunday Assembly
URL;VALUE=URI:https://newcovenant.tithelysetup8.com/events/sunday-assembly-
 -9/2026-09-08
ATTACH;FILENAME=sbTq.jpg;FMTTYPE=image/jpeg:https://dq5pwpg1q8ru0.cloudfron
 t.net/2022/02/17/20/25/55/8263b2e6-f35e-40ba-a99b-3418d0587f49/sbTq.jpg
END:VEVENT
END:VCALENDAR
