BEGIN:VCALENDAR
VERSION:2.0
PRODID:icalendar-ruby
CALSCALE:GREGORIAN
METHOD:PUBLISH
BEGIN:VEVENT
DTSTAMP:20260423T174654Z
UID:8-1481404@newcovenant.tithelysetup8.com
DTSTART:20260903T230000Z
DTEND:20260904T010000Z
CLASS:PUBLIC
CREATED:20260423T131903
DESCRIPTION:For more information or to sign up for Financial Peace Universi
 ty please send email to nclkcmedia@gmail.com. Thank you\nFinancial Peace U
 niversity Coordinator
LAST-MODIFIED:20260423T131903
LOCATION:Currently Meeting Online
SUMMARY:Financial Peace University
URL;VALUE=URI:https://newcovenant.tithelysetup8.com/events/financial-peace-
 university/2026-09-03
ATTACH;FILENAME=financial-peace-slide-large-logo.jpg;FMTTYPE=image/jpeg:htt
 ps://dq5pwpg1q8ru0.cloudfront.net/2022/02/10/12/45/45/f6a4fadd-4514-4d13-a
 b71-3b72d2862859/financial-peace-slide-large-logo.jpg
END:VEVENT
END:VCALENDAR
